BEGIN:VCALENDAR
VERSION:2.0
PRODID:-//160.153.33.229//NONSGML kigkonsult.se iCalcreator 2.26.9//
CALSCALE:GREGORIAN
METHOD:PUBLISH
X-FROM-URL:http://manantialcc.org/MDVJ
X-WR-TIMEZONE:America/New_York
BEGIN:VTIMEZONE
TZID:America/New_York
X-LIC-LOCATION:America/New_York
BEGIN:STANDARD
DTSTART:20251102T020000
TZOFFSETFROM:-0400
TZOFFSETTO:-0500
RDATE:20261101T020000
TZNAME:EST
END:STANDARD
BEGIN:DAYLIGHT
DTSTART:20260308T020000
TZOFFSETFROM:-0500
TZOFFSETTO:-0400
RDATE:20270314T020000
TZNAME:EDT
END:DAYLIGHT
END:VTIMEZONE
BEGIN:VEVENT
UID:ai1ec-78@manantialcc.org/MDVJ
DTSTAMP:20260424T212106Z
CATEGORIES:
CONTACT:
DESCRIPTION:<p>Youth Gathering for prayer\, worship and to praise God.</p>
DTSTART;TZID=America/New_York:20230427T193000
DTEND;TZID=America/New_York:20230427T210000
RRULE:FREQ=WEEKLY;BYDAY=TH;WKST=MO
SEQUENCE:0
SUMMARY:Youth Cellular
URL:http://manantialcc.org/MDVJ/event/youth-cellular/
X-COST-TYPE:free
END:VEVENT
END:VCALENDAR
